BEGIN:VCALENDAR
VERSION:2.0
PRODID:-//Crafters Singapore - ECPv6.15.11//NONSGML v1.0//EN
CALSCALE:GREGORIAN
METHOD:PUBLISH
X-ORIGINAL-URL:https://crafterssingapore.com
X-WR-CALDESC:Events for Crafters Singapore
REFRESH-INTERVAL;VALUE=DURATION:PT1H
X-Robots-Tag:noindex
X-PUBLISHED-TTL:PT1H
BEGIN:VTIMEZONE
TZID:Asia/Singapore
BEGIN:STANDARD
TZOFFSETFROM:+0800
TZOFFSETTO:+0800
TZNAME:+08
DTSTART:20250101T000000
END:STANDARD
END:VTIMEZONE
BEGIN:VEVENT
DTSTART;TZID=Asia/Singapore:20260320T110000
DTEND;TZID=Asia/Singapore:20260322T210000
DTSTAMP:20260424T104246
CREATED:20251201T104237Z
LAST-MODIFIED:20260316T045848Z
UID:7230-1774004400-1774213200@crafterssingapore.com
SUMMARY:Maker Gonna Make Market at Tanglin Mall from 20th to 22nd Mar 2026
DESCRIPTION:Dear Crafters and Bakers \nTanglin Mall: A Lifestyle Haven at the Gateway to Orchard \nOverview\nTanglin Mall is a well‑established lifestyle and retail destination located at 163 Tanglin Road\, strategically positioned at the junction of Tanglin Road and Grange Road. Known for its relaxed\, family‑friendly atmosphere\, the mall serves an affluent mix of expatriates\, professionals\, and residents from the surrounding embassy district and premium residential enclaves. \nPositioning & Appeal\nUnlike the high‑energy\, fashion‑driven malls along Orchard Road\, Tanglin Mall differentiates itself with: \n\nA curated mix of specialty stores\nA strong focus on gourmet groceries\, lifestyle brands\, and family services\nA calm\, resort‑inspired ambience enhanced by tropical landscaping and colonial‑style architectural elements\n\nThis makes it a preferred destination for shoppers seeking convenience\, quality\, and a slower pace. \nRetail & Dining Mix\nTanglin Mall houses over 70 tenants\, including: \n\nF&B: A diverse Food Hall offering local and international cuisines\nGourmet supermarket: Tanglin Market Place\, known for imported goods and artisanal products\nLifestyle & specialty shops: Fashion\, sports\, home décor\, maternity & baby care\, toys\, hobbies\nServices: Dental clinics\, hair salons\, laundry\, wellness\, and more\n\nIts tenant mix is intentionally curated to serve daily needs as well as premium lifestyle preferences. \nCustomer Experience & Amenities \n\nBaby care room with nursing facilities\, washing area\, and diaper‑changing station\nGift vouchers available in multiple denominations\nDaily operating hours: 10am – 10pm\nParking: Tiered hourly rates on weekdays and per‑entry rates on weekends and public holidays\n\nThese amenities reinforce the mall’s reputation as a family‑friendly and convenience‑driven destination. \nEvents & Community Engagement\nTanglin Mall regularly hosts seasonal promotions\, festive markets\, and lifestyle activations. Recent examples include: \n\nLunar New Year markets\nRetailer‑led pop‑ups\nFamily‑oriented workshops and performances\nThese events help maintain steady footfall and strengthen the mall’s community‑centric identity.\n\n Target Demographic \n\nExpatriate families\nAffluent residents from Tanglin\, Nassim\, and Orchard\nEmbassy staff and professionals\nTourists staying in nearby hotels\n\nThe mall’s offerings and ambience are tailored to this discerning\, lifestyle‑focused audience. \nDemographics: Tourists\, Families\, Working Class\, and Expatriates\nSetup\nTraffic \nVenue:\nTanglin Mall Atrium\n163 Tanglin Road\, Singapore 247933\nDirectory (Nearest MRT Station is Orchard Boulevard) \nDate:\n20th to 22nd Mar 2026\n24th to 26th Apr 2026\n29th to 31st May 2026\n26th to 28th Jun 2026\n24th to 26th Jul 2026\n28th to 30th Aug 2026\n25th to 27th Sep 2026\n23rd to 25th Oct 2026 \nTime:\n11am to 9pm \nRENTAL\n$299 for 3 days\nInclusive of 1 table (4ft x 2ft) and 1 chair.  Booth sharing is permitted.\nNote: NO side table and rack allowed. \nPermitted Products:  Handmade.  Arts.  Crafts.  Upcycled.  Recycled.  Sustainability.  Organic.  Wellness.  Paintings.  Drawings.  Beauty.  Unique Artisan Pre-Packed Food/Drinks (sealed [with hygiene cert and SFA approval]). \nNon-permitted Products: Kids-related products.\nNote I: For thematic events\, vendors MUST HAVE some products related to the theme to qualify for the booth.\nNote II:  Crafters for handmade fashion jewelleries (rings\, earrings\, bracelets\, bangles\, and necklaces)\, not more than 4 handmade fashion jewellery vendors per event and can only take part alternate months. \nRENTAL PROMOTION\nSign up for any 3 events/booths at Tanglin Mall and pay ONLY $744.51 (applicable for weekend markets only). \nVALUE ADDED SERVICES\nPlastic Chair – $10\nElectrical Point – NA\nUsed Black Cloth for covering booth during closing – NA\nVVIP Booth Selection – $80 each\nVIP Booth Selection – $50 each\nStandard Booth Selection – $30 each \nFLOOR PLAN\n\n \nPAST EVENTS\n  \nREVIEW\n    \n  \nREGISTRATION\nPlease enable JavaScript in your browser to complete this form.Name *FirstLastContact *Email *Venue of interest *Date of interestProduct for sale *Additional informationSubmit
URL:https://crafterssingapore.com/event/maker-gonna-make-market-at-tanglin-mall/
LOCATION:Tanglin Mall\, 163 Tanglin Road\, Singapore\, Singapore\, 247933\, Singapore
CATEGORIES:Crafters Market
ATTACH;FMTTYPE=image/jpeg:https://crafterssingapore.com/wp-content/uploads/2023/04/Tanglin-Mall.jpg
ORGANIZER;CN="Crafters Singapore":MAILTO:bazaar@crafterssingapore.com
END:VEVENT
END:VCALENDAR