BEGIN:VCALENDAR
VERSION:2.0
PRODID:-//Crafters Singapore - ECPv6.15.11//NONSGML v1.0//EN
CALSCALE:GREGORIAN
METHOD:PUBLISH
X-ORIGINAL-URL:https://crafterssingapore.com
X-WR-CALDESC:Events for Crafters Singapore
REFRESH-INTERVAL;VALUE=DURATION:PT1H
X-Robots-Tag:noindex
X-PUBLISHED-TTL:PT1H
BEGIN:VTIMEZONE
TZID:Asia/Singapore
BEGIN:STANDARD
TZOFFSETFROM:+0800
TZOFFSETTO:+0800
TZNAME:+08
DTSTART:20250101T000000
END:STANDARD
END:VTIMEZONE
BEGIN:VEVENT
DTSTART;TZID=Asia/Singapore:20260303T110000
DTEND;TZID=Asia/Singapore:20260305T150000
DTSTAMP:20260424T125410
CREATED:20260215T152147Z
LAST-MODIFIED:20260227T191709Z
UID:7379-1772535600-1772722800@crafterssingapore.com
SUMMARY:RENTAL FREE* Women-preneurs Market at One Raffles Quay from 3rd to 5th Mar 2026
DESCRIPTION:Dear Crafters and Bakers \n \nOne Raffles Quay (ORQ) is a landmark Grade‑A office development that anchors Singapore’s world‑renowned Marina Bay financial district. Purpose‑built for leading global corporations\, ORQ offers expansive\, efficient floor plates\, state‑of‑the‑art infrastructure\, and a prestigious business address that elevates corporate presence and performance. Its two iconic towers—the North Tower and South Tower—are designed to meet the demands of modern enterprises\, delivering exceptional connectivity\, advanced building systems\, and a professional environment that supports productivity at scale. With direct access to major MRT lines\, premium end‑of‑trip facilities\, and a curated selection of dining and lifestyle options\, ORQ creates a seamless workday experience for today’s dynamic workforce. Surrounded by top financial institutions\, luxury hotels\, and vibrant waterfront amenities\, One Raffles Quay stands as a symbol of strength\, sophistication\, and strategic advantage in Singapore’s premier business hub.  \nHighlights: Charity Drive\, Mall Promotions\, and other activities for tenants and public\nDemographics: Working Class\, and Expats\nSetup \nVenue:\nOne Raffles Quay Main Atrium\n1 Raffles Quay (S)048583\nDirectory (Nearest MRT Station is Downtown) \nDate:\n3rd to 5th Mar 2026 \nTime:\n11am to 3pm (possible to extend to 6pm) \nRENTAL\nFREE* \n*TERMS AND CONDITIONS: \n\nA $48 administration fee applies for per booth per registration.\nA $100 Refundable Security Deposit applies per booth per registration.  It will be refunded back after the whole respective theme event is over.\n\nInclusive of 1 table (4ftx 2ft)\, 1 chair and branding signage. \nPermitted Products:  Handmade.  Arts.  Crafts.  Upcycled.  Recycled.  Sustainability.  Organic.  Paintings.  Drawings.  Beauty.  Artisan pre-packed bakes (with SFA approved license and hygiene certificate).\nNon-permitted Products:  Fashion apparels\nNote I: All vendors mending the booths have to be female. \nNote II: Vendors are to receive cashless payments from consumers\, keeping a sustainable initiative.\nNote III: Both One Raffles Quay and Crafters Singapore management will carefully curate each product\, selecting only distinctive handmade creations that are rarely found in the market. All items must also align with the event’s theme.  Please verify your products with us first before making any payments. \nVALUE ADDED OPTIONS\nPlastic Chair – $10\nElectrical Point – NA\nVIP Booth Selection (corner booth) – $50 each\nStandard Booth Selection – $30 each \nFLOOR PLAN\n\n \nPAST EVENTS\n   \n  \nREGISTRATION\nPlease enable JavaScript in your browser to complete this form.Name *FirstLastContact *Email *Venue of interest *Date of interestProduct for sale *Additional informationSubmit
URL:https://crafterssingapore.com/event/crafters-market-at-one-raffles-quay/
LOCATION:One Raffles Quay\, 1 Raffles Quay\, Singapore\, Singapore\, 048583\, Singapore
CATEGORIES:Crafters Market
ATTACH;FMTTYPE=image/jpeg:https://crafterssingapore.com/wp-content/uploads/2025/10/One-Raffles-Quay.jpg
ORGANIZER;CN="Crafters Singapore":MAILTO:bazaar@crafterssingapore.com
END:VEVENT
END:VCALENDAR