BEGIN:VCALENDAR
VERSION:2.0
PRODID:-//Crafters Singapore - ECPv6.15.11//NONSGML v1.0//EN
CALSCALE:GREGORIAN
METHOD:PUBLISH
X-WR-CALNAME:Crafters Singapore
X-ORIGINAL-URL:https://crafterssingapore.com
X-WR-CALDESC:Events for Crafters Singapore
REFRESH-INTERVAL;VALUE=DURATION:PT1H
X-Robots-Tag:noindex
X-PUBLISHED-TTL:PT1H
BEGIN:VTIMEZONE
TZID:Asia/Singapore
BEGIN:STANDARD
TZOFFSETFROM:+0800
TZOFFSETTO:+0800
TZNAME:+08
DTSTART:20250101T000000
END:STANDARD
END:VTIMEZONE
BEGIN:VEVENT
DTSTART;TZID=Asia/Singapore:20260313T110000
DTEND;TZID=Asia/Singapore:20260315T190000
DTSTAMP:20260424T104232
CREATED:20260215T181919Z
LAST-MODIFIED:20260215T182011Z
UID:7409-1773399600-1773601200@crafterssingapore.com
SUMMARY:Crafters Market at Bukit Timah Plaza from 13th to 15th Mar 2026 Lot B
DESCRIPTION:Dear Crafters and Bakers \nBukit Timah Plaza: A Neighbourhood Classic with Modern Convenience \nBukit Timah Plaza is one of Singapore’s long‑standing suburban malls\, located along Jalan Anak Bukit in District 21. Conveniently positioned near Beauty World MRT (DT5)\, it serves as a practical\, family‑friendly hub for residents in Upper Bukit Timah and beyond. \nA Mall for Every Household\nThe mall prides itself on being a destination that “meets the needs of everyone in your household\,” offering a broad mix of retail\, dining\, enrichment\, and essential services. Its tenant mix reflects this philosophy\, with more than 130 brands spanning lifestyle\, education\, beauty\, healthcare\, and F&B. \nKey Highlights \n\nSupermarket: FairPrice Finest (B1–B2)\, open 24 hours — a major draw for residents.\nEducation & Enrichment: A strong cluster of art schools\, tuition centres\, and music studios makes the mall a popular after‑school destination.\nBeauty & Wellness: Numerous salons\, nail bars\, TCM clinics\, and massage centres.\nDining: From Korean BBQ and steamboat to bakeries\, caf?s\, and quick‑service options like Subway.\nClinics & Essentials: Medical\, dental\, chiropractic\, and child clinics provide everyday convenience.\n\nWho It’s For\nBukit Timah Plaza is ideal for: \n\nFamilies seeking enrichment classes and child‑friendly services\nResidents looking for convenient groceries and daily essentials\nShoppers who prefer practical\, no‑frills retail\nAnyone who appreciates a quieter\, community‑centric mall experience\n\nOverall Impression\nBukit Timah Plaza may not be the flashiest mall in Singapore\, but it remains a reliable\, well‑rounded neighbourhood centre with a strong focus on education\, wellness\, and everyday convenience. Its long history and steady footfall show that it continues to serve the Bukit Timah community well. \nDemographics: Family crowd\nSetup\nTraffic \nVenue:\nBukit Timah Plaza Main Atrium\n1 Jln Anak Bukit\, Bukit Timah Plaza\, Singapore 588996\nDirectory (Nearest MRT Station will be Beauty World or King Albert Park) \nDate:\n13th to 15th Mar 2026 Lot B\n10th to 12th Apr 2026 Lot B\n15th to 17th May 2026 Lot B\n12th to 14th Jun 2026 Lot B\n10th to 12th July 2026 Lot B\n14th to 16th Aug 2026 Lot B\n11th to13th Sep 2026 Lot B\n13th to 15th Nov 2026 Lot B\n11th to 13th Dec 2026 Lot B (Christmas theme) \nTime:\n11am to 7pm \nRENTAL\n$158 for 3 days\nInclusive of 1 table and 1 chair.  Booth sharing permitted. \nPermitted Products:  Handmade.  Arts.  Crafts.  Upcycled.  Recycled.  Sustainability.  Organic.  Wellness.  Paintings.  Drawings.  Local Designed Fashion Apparels.  Artisan Pre-packed Food/Drinks (sealed [with hygiene cert or/and SFA approval]). \nNote: All side tables and racks have to be STRICTLY made of wood or white in colour\, single tier ONLY.  Please refer to our terms and conditions for size permitted.  \nRENTAL PACKAGE\nSign up for any 3 events at Bukit Timah Plaza and pay ONLY $393.42! \nVALUE ADDED SERVICES\nPlastic Chair – $10\nElectrical Point – $40\nUsed Black Cloth for covering booth during closing – $10 each\nBooth selection – $30 each \nFLOOR PLAN\n\n \nPAST EVENTS\n  \nREVIEWS\n \n  \nREGISTRATION\nPlease enable JavaScript in your browser to complete this form.Name *FirstLastContact *Email *Venue of interest *Date of interestProduct for sale *Additional informationSubmit
URL:https://crafterssingapore.com/event/crafters-market-at-bukit-timah-plaza-7/
LOCATION:Bukit Timah Plaza\, 1 Jln Anak Bukit\, Singapore\, Singapore\, 588996\, Singapore
CATEGORIES:Crafters Market
ATTACH;FMTTYPE=image/webp:https://crafterssingapore.com/wp-content/uploads/2023/05/Bukit_Timah_Plaza-_SRI.webp
ORGANIZER;CN="Crafters Singapore":MAILTO:bazaar@crafterssingapore.com
END:VEVENT
END:VCALENDAR