BEGIN:VCALENDAR
VERSION:2.0
PRODID:-//Crafters Singapore - ECPv6.15.11//NONSGML v1.0//EN
CALSCALE:GREGORIAN
METHOD:PUBLISH
X-ORIGINAL-URL:https://crafterssingapore.com
X-WR-CALDESC:Events for Crafters Singapore
REFRESH-INTERVAL;VALUE=DURATION:PT1H
X-Robots-Tag:noindex
X-PUBLISHED-TTL:PT1H
BEGIN:VTIMEZONE
TZID:Asia/Singapore
BEGIN:STANDARD
TZOFFSETFROM:+0800
TZOFFSETTO:+0800
TZNAME:+08
DTSTART:20250101T000000
END:STANDARD
END:VTIMEZONE
BEGIN:VEVENT
DTSTART;TZID=Asia/Singapore:20260302T110000
DTEND;TZID=Asia/Singapore:20260305T190000
DTSTAMP:20260424T104246
CREATED:20260215T152904Z
LAST-MODIFIED:20260215T153721Z
UID:7381-1772449200-1772737200@crafterssingapore.com
SUMMARY:Lifestyle Market Aperia Mall from 2nd to 5th March 2026
DESCRIPTION:Dear Vendors \nWe have expanded our collaboration with Aperia Mall!!! \nAperia has also been awarded the prestigious BCA Green Mark Platinum certification\, bringing firms energy and cost savings.  Located at the intersection of Lavender Street and Kallang Road\, and 5 minutes’ walk to the Lavender MRT Station and the Bendemeer MRT Station\, Aperia is the most iconic Business development at the fringe of Singapore’s CBD. This is a BCA Green Mark Platinum building\, with about 69\,000 sqm GFA\, consisting of two Business 1 towers and a 3-storey retail podium with attractive brands and eateries\, including a Michelin-starred restaurant\, the popular Thai Market\, as well as lifestyle amenities like a recreational pool\, childcare and enrichment centres\, supermarket\, shops and F&B outlets to meet the needs of new generation of knowledge workers. \nWith separate service lifts for the retail and office buildings\, tall slab-to-slab ceiling heights of five metres\, and high floor loading capacity\, the integrated development is ideal for software production\, IT\, call centres and e-commerce companies. \nWith a favourable location at the intersection of Lavender Street and Kallang Road\, the building is just around the corner from Lavender and Bendemeer MRT stations\, and the Central Business District is only a short drive away. \nDemographics: Age 23 to 63.  Office Crowd\, and Families\nSetup\nTraffic \nVenue:\nAperia Mall Main Atrium\n12 Kallang Ave\, Singapore 339511\nDirectory (Nearest MRT Station is Lavender and Bendemeer) \nDate:\n2nd to 5th March 2026\n13th to 16th Apr 2026\n4th to 7th May 2026\n1st to 4th Jun 2026\n6th to 9th Jul 2026\n3rd to 6th Aug 2026\n31 Aug – 3 Sep 2026\n5th to 8th Oct 2026\n2nd to 5th Nov 2026\n7th to 10th Dec 2026 \nTime:\n11am to 7pm \nRENTAL\n$118 for 4 days\nInclusive of 1 table (4ft x 2ft) and 1 chair.  Booth sharing is permitted. \nPermitted Products: Fashion Apparels.  Fashion Accessories.  Jewelleries. Toys.  Books.  Beauty.  Gadgets.  Household.  Paintings.  Drawings.  Arts.  Crafters.  Handmade.  Upcycled.  Recycled. Sustainability. Organic.  Wellness. \nNon-Permitted Products: Strictly NO Food and Drinks.\nNote: All side tables and racks have to be STRICTLY made of wood or white in colour\, single tier ONLY.  Please refer to our terms and conditions for size permitted.  \nRENTAL PACKAGE\nSign up for any 3 booths/events at Aperia Mall and pay ONLY $293.82! \nVALUE ADDED SERVICES\nPlastic Chair – $10\nElectrical Point – NA\nUsed Black Cloth for covering booth during closing – $10 each\nBooth selection – $30 each \nFLOOR PLAN\n\n \nPAST EVENTS\n   \n \n \nREGISTRATION\nPlease enable JavaScript in your browser to complete this form.Name *FirstLastContact *Email *Venue of interest *Date of interestProduct for sale *Additional informationSubmit
URL:https://crafterssingapore.com/event/lifestyle-market-aperia-mall-3/
LOCATION:Aperia Mall\, 12 Kallang Ave\, Singapore\, Singapore\, 339511\, Singapore
CATEGORIES:Lifestyle Market
ATTACH;FMTTYPE=image/jpeg:https://crafterssingapore.com/wp-content/uploads/2024/03/aperia-25.jpg
ORGANIZER;CN="Crafters Singapore":MAILTO:bazaar@crafterssingapore.com
END:VEVENT
END:VCALENDAR